BEGIN:VCALENDAR
VERSION:2.0
PRODID:-//ZContent.net//ZapCalLib 1.0//EN
CALSCALE:GREGORIAN
METHOD:PUBLISH
BEGIN:VEVENT
SUMMARY:Klassiknacht in Weiß  
DTSTART:20260712T190000
DTEND:20260712T213000
DTSTAMP:20260419T150806
LOCATION:Sommerbühne der Taunus Sparkasse vor dem Kaiser-Wilhelms-Bad 
END:VEVENT
END:VCALENDAR
